BEGIN:VCALENDAR
VERSION:2.0
PRODID:JMS Hockey
X-PUBLISHED-TTL:P1W
BEGIN:VEVENT
UID:69e7959b283ea
DTSTART:20170331T013000Z
SEQUENCE:0
TRANSP:OPAQUE
DTEND:20170331T030000Z
URL:http://jmshockey.com/games/9793
LOCATION:Burnsville Arena
SUMMARY:Intermediate Game at Burnsville Arena
CLASS:PUBLIC
DTSTAMP:20260421T101955Z
END:VEVENT
END:VCALENDAR