BEGIN:VCALENDAR
VERSION:2.0
PRODID:JMS Hockey
X-PUBLISHED-TTL:P1W
BEGIN:VEVENT
UID:69e7d48a6704a
DTSTART:20170317T013000Z
SEQUENCE:0
TRANSP:OPAQUE
DTEND:20170317T030000Z
URL:http://jmshockey.com/games/9792
LOCATION:Burnsville Arena
SUMMARY:Intermediate Game at Burnsville Arena
CLASS:PUBLIC
DTSTAMP:20260421T144826Z
END:VEVENT
END:VCALENDAR