BEGIN:VCALENDAR
VERSION:2.0
PRODID:JMS Hockey
X-PUBLISHED-TTL:P1W
BEGIN:VEVENT
UID:69e772ff4364b
DTSTART:20170315T011000Z
SEQUENCE:0
TRANSP:OPAQUE
DTEND:20170315T024000Z
URL:http://jmshockey.com/games/9784
LOCATION:Burnsville Arena
SUMMARY:Lower Level Game at Burnsville Arena
CLASS:PUBLIC
DTSTAMP:20260421T075215Z
END:VEVENT
END:VCALENDAR