BEGIN:VCALENDAR
VERSION:2.0
PRODID:JMS Hockey
X-PUBLISHED-TTL:P1W
BEGIN:VEVENT
UID:69e7c2ec94c0b
DTSTART:20170308T035000Z
SEQUENCE:0
TRANSP:OPAQUE
DTEND:20170308T052000Z
URL:http://jmshockey.com/games/9783
LOCATION:Burnsville Arena
SUMMARY:Lower Level Game at Burnsville Arena
CLASS:PUBLIC
DTSTAMP:20260421T133316Z
END:VEVENT
END:VCALENDAR