BEGIN:VCALENDAR
VERSION:2.0
PRODID:JMS Hockey
X-PUBLISHED-TTL:P1W
BEGIN:VEVENT
UID:69e77907bb51f
DTSTART:20170406T023000Z
SEQUENCE:0
TRANSP:OPAQUE
DTEND:20170406T040000Z
URL:http://jmshockey.com/games/9774
LOCATION:Maple Grove
SUMMARY:Lower Level Game at Maple Grove
CLASS:PUBLIC
DTSTAMP:20260421T081759Z
END:VEVENT
END:VCALENDAR