BEGIN:VCALENDAR
VERSION:2.0
PRODID:JMS Hockey
X-PUBLISHED-TTL:P1W
BEGIN:VEVENT
UID:69e7a7c63896c
DTSTART:20170318T200000Z
SEQUENCE:0
TRANSP:OPAQUE
DTEND:20170318T210000Z
URL:http://jmshockey.com/games/9746
LOCATION:Parade Ice Gardens
SUMMARY:Upper Level Game at Parade Ice Gardens
CLASS:PUBLIC
DTSTAMP:20260421T113726Z
END:VEVENT
END:VCALENDAR