BEGIN:VCALENDAR
VERSION:2.0
PRODID:JMS Hockey
X-PUBLISHED-TTL:P1W
BEGIN:VEVENT
UID:69e7c3e9adc9d
DTSTART:20170121T024500Z
SEQUENCE:0
TRANSP:OPAQUE
DTEND:20170121T034500Z
URL:http://jmshockey.com/games/9742
LOCATION:Parade Ice Gardens
SUMMARY:Upper Level Game at Parade Ice Gardens
CLASS:PUBLIC
DTSTAMP:20260421T133729Z
END:VEVENT
END:VCALENDAR