BEGIN:VCALENDAR
VERSION:2.0
PRODID:JMS Hockey
X-PUBLISHED-TTL:P1W
BEGIN:VEVENT
UID:69e7d82c89233
DTSTART:20091031T024500Z
SEQUENCE:0
TRANSP:OPAQUE
DTEND:20091031T041500Z
URL:http://jmshockey.com/games/974
LOCATION:Plymouth Ice Center
SUMMARY:Level 3 Game at Plymouth Ice Center
CLASS:PUBLIC
DTSTAMP:20260421T150356Z
END:VEVENT
END:VCALENDAR