BEGIN:VCALENDAR
VERSION:2.0
PRODID:JMS Hockey
X-PUBLISHED-TTL:P1W
BEGIN:VEVENT
UID:69e7afa48238c
DTSTART:20170114T025000Z
SEQUENCE:0
TRANSP:OPAQUE
DTEND:20170114T042000Z
URL:http://jmshockey.com/games/9732
LOCATION:Doug Woog Arena (Wakota)
SUMMARY:Intermediate Game at Doug Woog Arena (Wakota)
CLASS:PUBLIC
DTSTAMP:20260421T121100Z
END:VEVENT
END:VCALENDAR