BEGIN:VCALENDAR
VERSION:2.0
PRODID:JMS Hockey
X-PUBLISHED-TTL:P1W
BEGIN:VEVENT
UID:69e7964fea985
DTSTART:20170119T032000Z
SEQUENCE:0
TRANSP:OPAQUE
DTEND:20170119T045000Z
URL:http://jmshockey.com/games/9730
LOCATION:Doug Woog Arena (Wakota)
SUMMARY:Level 3 Game at Doug Woog Arena (Wakota)
CLASS:PUBLIC
DTSTAMP:20260421T102255Z
END:VEVENT
END:VCALENDAR