BEGIN:VCALENDAR
VERSION:2.0
PRODID:JMS Hockey
X-PUBLISHED-TTL:P1W
BEGIN:VEVENT
UID:69e7acf85119d
DTSTART:20170131T032000Z
SEQUENCE:0
TRANSP:OPAQUE
DTEND:20170131T045000Z
URL:http://jmshockey.com/games/9727
LOCATION:Doug Woog Arena (Wakota)
SUMMARY:Lower Level Game at Doug Woog Arena (Wakota)
CLASS:PUBLIC
DTSTAMP:20260421T115936Z
END:VEVENT
END:VCALENDAR