BEGIN:VCALENDAR
VERSION:2.0
PRODID:JMS Hockey
X-PUBLISHED-TTL:P1W
BEGIN:VEVENT
UID:69e7a5819c377
DTSTART:20170107T035000Z
SEQUENCE:0
TRANSP:OPAQUE
DTEND:20170107T052000Z
URL:http://jmshockey.com/games/9721
LOCATION:Doug Woog Arena (Wakota)
SUMMARY:Intermediate Game at Doug Woog Arena (Wakota)
CLASS:PUBLIC
DTSTAMP:20260421T112745Z
END:VEVENT
END:VCALENDAR