BEGIN:VCALENDAR
VERSION:2.0
PRODID:JMS Hockey
X-PUBLISHED-TTL:P1W
BEGIN:VEVENT
UID:69e79a9694684
DTSTART:20161229T032000Z
SEQUENCE:0
TRANSP:OPAQUE
DTEND:20161229T045000Z
URL:http://jmshockey.com/games/9718
LOCATION:Doug Woog Arena (Wakota)
SUMMARY:Level 3 Game at Doug Woog Arena (Wakota)
CLASS:PUBLIC
DTSTAMP:20260421T104110Z
END:VEVENT
END:VCALENDAR