BEGIN:VCALENDAR
VERSION:2.0
PRODID:JMS Hockey
X-PUBLISHED-TTL:P1W
BEGIN:VEVENT
UID:69e79a966b9d0
DTSTART:20161227T033000Z
SEQUENCE:0
TRANSP:OPAQUE
DTEND:20161227T050000Z
URL:http://jmshockey.com/games/9717
LOCATION:Doug Woog Arena (Wakota)
SUMMARY:Lower Level Game at Doug Woog Arena (Wakota)
CLASS:PUBLIC
DTSTAMP:20260421T104110Z
END:VEVENT
END:VCALENDAR