BEGIN:VCALENDAR
VERSION:2.0
PRODID:JMS Hockey
X-PUBLISHED-TTL:P1W
BEGIN:VEVENT
UID:69e7bb4c55dda
DTSTART:20170207T034000Z
SEQUENCE:0
TRANSP:OPAQUE
DTEND:20170207T051000Z
URL:http://jmshockey.com/games/9715
LOCATION:St Thomas Ice Arena
SUMMARY:Elite Game at St Thomas Ice Arena
CLASS:PUBLIC
DTSTAMP:20260421T130044Z
END:VEVENT
END:VCALENDAR