BEGIN:VCALENDAR
VERSION:2.0
PRODID:JMS Hockey
X-PUBLISHED-TTL:P1W
BEGIN:VEVENT
UID:69e7ba0b0fcdc
DTSTART:20170110T035000Z
SEQUENCE:0
TRANSP:OPAQUE
DTEND:20170110T052000Z
URL:http://jmshockey.com/games/9709
LOCATION:St Thomas Ice Arena
SUMMARY:Elite Game at St Thomas Ice Arena
CLASS:PUBLIC
DTSTAMP:20260421T125523Z
END:VEVENT
END:VCALENDAR