BEGIN:VCALENDAR
VERSION:2.0
PRODID:JMS Hockey
X-PUBLISHED-TTL:P1W
BEGIN:VEVENT
UID:69e7959e6f4f9
DTSTART:20170212T040000Z
SEQUENCE:0
TRANSP:OPAQUE
DTEND:20170212T053000Z
URL:http://jmshockey.com/games/9704
LOCATION:St Thomas Ice Arena
SUMMARY:All level Game at St Thomas Ice Arena
CLASS:PUBLIC
DTSTAMP:20260421T101958Z
END:VEVENT
END:VCALENDAR