BEGIN:VCALENDAR
VERSION:2.0
PRODID:JMS Hockey
X-PUBLISHED-TTL:P1W
BEGIN:VEVENT
UID:69e79762416a4
DTSTART:20170113T034000Z
SEQUENCE:0
TRANSP:OPAQUE
DTEND:20170113T051000Z
URL:http://jmshockey.com/games/9690
LOCATION:St Thomas Ice Arena
SUMMARY:All level Game at St Thomas Ice Arena
CLASS:PUBLIC
DTSTAMP:20260421T102730Z
END:VEVENT
END:VCALENDAR