BEGIN:VCALENDAR
VERSION:2.0
PRODID:JMS Hockey
X-PUBLISHED-TTL:P1W
BEGIN:VEVENT
UID:69e7d48abf5dc
DTSTART:20170120T035000Z
SEQUENCE:0
TRANSP:OPAQUE
DTEND:20170120T052000Z
URL:http://jmshockey.com/games/9689
LOCATION:St Thomas Ice Arena
SUMMARY:All level Game at St Thomas Ice Arena
CLASS:PUBLIC
DTSTAMP:20260421T144826Z
END:VEVENT
END:VCALENDAR