BEGIN:VCALENDAR
VERSION:2.0
PRODID:JMS Hockey
X-PUBLISHED-TTL:P1W
BEGIN:VEVENT
UID:69e799c77f288
DTSTART:20170203T041000Z
SEQUENCE:0
TRANSP:OPAQUE
DTEND:20170203T054000Z
URL:http://jmshockey.com/games/9683
LOCATION:Woodbury Bielenberg
SUMMARY:Lower Level Game at Woodbury Bielenberg
CLASS:PUBLIC
DTSTAMP:20260421T103743Z
END:VEVENT
END:VCALENDAR