BEGIN:VCALENDAR
VERSION:2.0
PRODID:JMS Hockey
X-PUBLISHED-TTL:P1W
BEGIN:VEVENT
UID:69e787a126a31
DTSTART:20170106T035000Z
SEQUENCE:0
TRANSP:OPAQUE
DTEND:20170106T052000Z
URL:http://jmshockey.com/games/9679
LOCATION:Woodbury Bielenberg
SUMMARY:Lower Level Game at Woodbury Bielenberg
CLASS:PUBLIC
DTSTAMP:20260421T092017Z
END:VEVENT
END:VCALENDAR