BEGIN:VCALENDAR
VERSION:2.0
PRODID:JMS Hockey
X-PUBLISHED-TTL:P1W
BEGIN:VEVENT
UID:69e778a14b224
DTSTART:20170225T031000Z
SEQUENCE:0
TRANSP:OPAQUE
DTEND:20170225T044000Z
URL:http://jmshockey.com/games/9677
LOCATION:Schwan Superrink
SUMMARY:All level Game at Schwan Superrink
CLASS:PUBLIC
DTSTAMP:20260421T081617Z
END:VEVENT
END:VCALENDAR