BEGIN:VCALENDAR
VERSION:2.0
PRODID:JMS Hockey
X-PUBLISHED-TTL:P1W
BEGIN:VEVENT
UID:69e7ef9806899
DTSTART:20091028T023000Z
SEQUENCE:0
TRANSP:OPAQUE
DTEND:20091028T040000Z
URL:http://jmshockey.com/games/967
LOCATION:Eden Prairie Comm Ctr
SUMMARY:Level 3 Game at Eden Prairie Comm Ctr
CLASS:PUBLIC
DTSTAMP:20260421T164352Z
END:VEVENT
END:VCALENDAR