BEGIN:VCALENDAR
VERSION:2.0
PRODID:JMS Hockey
X-PUBLISHED-TTL:P1W
BEGIN:VEVENT
UID:69e7790815d50
DTSTART:20170308T033000Z
SEQUENCE:0
TRANSP:OPAQUE
DTEND:20170308T050000Z
URL:http://jmshockey.com/games/9668
LOCATION:St Louis Park Rec Center
SUMMARY:Novice Game at St Louis Park Rec Center
CLASS:PUBLIC
DTSTAMP:20260421T081800Z
END:VEVENT
END:VCALENDAR