BEGIN:VCALENDAR
VERSION:2.0
PRODID:JMS Hockey
X-PUBLISHED-TTL:P1W
BEGIN:VEVENT
UID:69e7e6d284508
DTSTART:20091028T030000Z
SEQUENCE:0
TRANSP:OPAQUE
DTEND:20091028T043000Z
URL:http://jmshockey.com/games/965
LOCATION:Fogerty Icehouse
SUMMARY:Level 3 Game at Fogerty Icehouse
CLASS:PUBLIC
DTSTAMP:20260421T160626Z
END:VEVENT
END:VCALENDAR