BEGIN:VCALENDAR
VERSION:2.0
PRODID:JMS Hockey
X-PUBLISHED-TTL:P1W
BEGIN:VEVENT
UID:69e7e6a307c54
DTSTART:20170204T034500Z
SEQUENCE:0
TRANSP:OPAQUE
DTEND:20170204T051500Z
URL:http://jmshockey.com/games/9647
LOCATION:St Louis Park Rec Center
SUMMARY:Novice Game at St Louis Park Rec Center
CLASS:PUBLIC
DTSTAMP:20260421T160539Z
END:VEVENT
END:VCALENDAR