BEGIN:VCALENDAR
VERSION:2.0
PRODID:JMS Hockey
X-PUBLISHED-TTL:P1W
BEGIN:VEVENT
UID:69e79d7fa1bfe
DTSTART:20170107T034500Z
SEQUENCE:0
TRANSP:OPAQUE
DTEND:20170107T051500Z
URL:http://jmshockey.com/games/9644
LOCATION:St Louis Park Rec Center
SUMMARY:Novice Game at St Louis Park Rec Center
CLASS:PUBLIC
DTSTAMP:20260421T105335Z
END:VEVENT
END:VCALENDAR