BEGIN:VCALENDAR
VERSION:2.0
PRODID:JMS Hockey
X-PUBLISHED-TTL:P1W
BEGIN:VEVENT
UID:69e7d48b7d2d3
DTSTART:20170116T023000Z
SEQUENCE:0
TRANSP:OPAQUE
DTEND:20170116T033000Z
URL:http://jmshockey.com/games/9629
LOCATION:Roseville Skating Center
SUMMARY:All level Game at Roseville Skating Center
CLASS:PUBLIC
DTSTAMP:20260421T144827Z
END:VEVENT
END:VCALENDAR