BEGIN:VCALENDAR
VERSION:2.0
PRODID:JMS Hockey
X-PUBLISHED-TTL:P1W
BEGIN:VEVENT
UID:69e7dd50e40da
DTSTART:20091022T024500Z
SEQUENCE:0
TRANSP:OPAQUE
DTEND:20091022T041500Z
URL:http://jmshockey.com/games/961
LOCATION:Minnetonka Ice Arena
SUMMARY:Level 3 Game at Minnetonka Ice Arena
CLASS:PUBLIC
DTSTAMP:20260421T152552Z
END:VEVENT
END:VCALENDAR