BEGIN:VCALENDAR
VERSION:2.0
PRODID:JMS Hockey
X-PUBLISHED-TTL:P1W
BEGIN:VEVENT
UID:69e7ad9cb98db
DTSTART:20170406T013000Z
SEQUENCE:0
TRANSP:OPAQUE
DTEND:20170406T030000Z
URL:http://jmshockey.com/games/9609
LOCATION:Polar Arena
SUMMARY:Lower Level Game at Polar Arena
CLASS:PUBLIC
DTSTAMP:20260421T120220Z
END:VEVENT
END:VCALENDAR