BEGIN:VCALENDAR
VERSION:2.0
PRODID:JMS Hockey
X-PUBLISHED-TTL:P1W
BEGIN:VEVENT
UID:69e7c6fe2677b
DTSTART:20170302T023000Z
SEQUENCE:0
TRANSP:OPAQUE
DTEND:20170302T040000Z
URL:http://jmshockey.com/games/9604
LOCATION:Polar Arena
SUMMARY:Lower Level Game at Polar Arena
CLASS:PUBLIC
DTSTAMP:20260421T135038Z
END:VEVENT
END:VCALENDAR