BEGIN:VCALENDAR
VERSION:2.0
PRODID:JMS Hockey
X-PUBLISHED-TTL:P1W
BEGIN:VEVENT
UID:69e7c3533d0c4
DTSTART:20170112T023000Z
SEQUENCE:0
TRANSP:OPAQUE
DTEND:20170112T040000Z
URL:http://jmshockey.com/games/9598
LOCATION:Polar Arena
SUMMARY:Lower Level Game at Polar Arena
CLASS:PUBLIC
DTSTAMP:20260421T133459Z
END:VEVENT
END:VCALENDAR