BEGIN:VCALENDAR
VERSION:2.0
PRODID:JMS Hockey
X-PUBLISHED-TTL:P1W
BEGIN:VEVENT
UID:69e7ada2961e6
DTSTART:20170218T034500Z
SEQUENCE:0
TRANSP:OPAQUE
DTEND:20170218T051500Z
URL:http://jmshockey.com/games/9595
LOCATION:Parade Ice Gardens
SUMMARY:Upper Level Game at Parade Ice Gardens
CLASS:PUBLIC
DTSTAMP:20260421T120226Z
END:VEVENT
END:VCALENDAR