BEGIN:VCALENDAR
VERSION:2.0
PRODID:JMS Hockey
X-PUBLISHED-TTL:P1W
BEGIN:VEVENT
UID:69e795a846bd8
DTSTART:20170203T040000Z
SEQUENCE:0
TRANSP:OPAQUE
DTEND:20170203T053000Z
URL:http://jmshockey.com/games/9576
LOCATION:Maple Grove
SUMMARY:Lower Level Game at Maple Grove
CLASS:PUBLIC
DTSTAMP:20260421T102008Z
END:VEVENT
END:VCALENDAR