BEGIN:VCALENDAR
VERSION:2.0
PRODID:JMS Hockey
X-PUBLISHED-TTL:P1W
BEGIN:VEVENT
UID:69e778a0eb78a
DTSTART:20170127T034500Z
SEQUENCE:0
TRANSP:OPAQUE
DTEND:20170127T051500Z
URL:http://jmshockey.com/games/9575
LOCATION:Maple Grove
SUMMARY:Lower Level Game at Maple Grove
CLASS:PUBLIC
DTSTAMP:20260421T081616Z
END:VEVENT
END:VCALENDAR