BEGIN:VCALENDAR
VERSION:2.0
PRODID:JMS Hockey
X-PUBLISHED-TTL:P1W
BEGIN:VEVENT
UID:69e7c1752db17
DTSTART:20091024T031500Z
SEQUENCE:0
TRANSP:OPAQUE
DTEND:20091024T044500Z
URL:http://jmshockey.com/games/957
LOCATION:St Louis Park Rec Center
SUMMARY:Level 2 Game at St Louis Park Rec Center
CLASS:PUBLIC
DTSTAMP:20260421T132701Z
END:VEVENT
END:VCALENDAR