BEGIN:VCALENDAR
VERSION:2.0
PRODID:JMS Hockey
X-PUBLISHED-TTL:P1W
BEGIN:VEVENT
UID:69e7adc1cc4e7
DTSTART:20170209T034500Z
SEQUENCE:0
TRANSP:OPAQUE
DTEND:20170209T051500Z
URL:http://jmshockey.com/games/9566
LOCATION:Maple Grove
SUMMARY:Upper Level Game at Maple Grove
CLASS:PUBLIC
DTSTAMP:20260421T120257Z
END:VEVENT
END:VCALENDAR