BEGIN:VCALENDAR
VERSION:2.0
PRODID:JMS Hockey
X-PUBLISHED-TTL:P1W
BEGIN:VEVENT
UID:69e7adb1d79fd
DTSTART:20170315T021500Z
SEQUENCE:0
TRANSP:OPAQUE
DTEND:20170315T034500Z
URL:http://jmshockey.com/games/9546
LOCATION:Eden Prairie Comm Ctr
SUMMARY:Upper Level Game at Eden Prairie Comm Ctr
CLASS:PUBLIC
DTSTAMP:20260421T120241Z
END:VEVENT
END:VCALENDAR