BEGIN:VCALENDAR
VERSION:2.0
PRODID:JMS Hockey
X-PUBLISHED-TTL:P1W
BEGIN:VEVENT
UID:69e7d4da433be
DTSTART:20170201T031500Z
SEQUENCE:0
TRANSP:OPAQUE
DTEND:20170201T044500Z
URL:http://jmshockey.com/games/9540
LOCATION:Eden Prairie Comm Ctr
SUMMARY:Upper Level Game at Eden Prairie Comm Ctr
CLASS:PUBLIC
DTSTAMP:20260421T144946Z
END:VEVENT
END:VCALENDAR