BEGIN:VCALENDAR
VERSION:2.0
PRODID:JMS Hockey
X-PUBLISHED-TTL:P1W
BEGIN:VEVENT
UID:69e7d5249f638
DTSTART:20170112T031500Z
SEQUENCE:0
TRANSP:OPAQUE
DTEND:20170112T044500Z
URL:http://jmshockey.com/games/9527
LOCATION:St Louis Park Rec Center
SUMMARY:All level Game at St Louis Park Rec Center
CLASS:PUBLIC
DTSTAMP:20260421T145100Z
END:VEVENT
END:VCALENDAR