BEGIN:VCALENDAR
VERSION:2.0
PRODID:JMS Hockey
X-PUBLISHED-TTL:P1W
BEGIN:VEVENT
UID:69e785965a7b8
DTSTART:20170222T033000Z
SEQUENCE:0
TRANSP:OPAQUE
DTEND:20170222T050000Z
URL:http://jmshockey.com/games/9524
LOCATION:Apple Valley Sports Arena
SUMMARY:Lower Level Game at Apple Valley Sports Arena
CLASS:PUBLIC
DTSTAMP:20260421T091134Z
END:VEVENT
END:VCALENDAR