BEGIN:VCALENDAR
VERSION:2.0
PRODID:JMS Hockey
X-PUBLISHED-TTL:P1W
BEGIN:VEVENT
UID:69e78798b79bf
DTSTART:20170118T033000Z
SEQUENCE:0
TRANSP:OPAQUE
DTEND:20170118T050000Z
URL:http://jmshockey.com/games/9520
LOCATION:Apple Valley Sports Arena
SUMMARY:Lower Level Game at Apple Valley Sports Arena
CLASS:PUBLIC
DTSTAMP:20260421T092008Z
END:VEVENT
END:VCALENDAR