BEGIN:VCALENDAR
VERSION:2.0
PRODID:JMS Hockey
X-PUBLISHED-TTL:P1W
BEGIN:VEVENT
UID:69e799f6524ba
DTSTART:20161123T034500Z
SEQUENCE:0
TRANSP:OPAQUE
DTEND:20161123T051500Z
URL:http://jmshockey.com/games/9496
LOCATION:St Louis Park Rec Center
SUMMARY:Lower Level Game at St Louis Park Rec Center
CLASS:PUBLIC
DTSTAMP:20260421T103830Z
END:VEVENT
END:VCALENDAR