BEGIN:VCALENDAR
VERSION:2.0
PRODID:JMS Hockey
X-PUBLISHED-TTL:P1W
BEGIN:VEVENT
UID:69e7c55fd3bc9
DTSTART:20161224T035000Z
SEQUENCE:0
TRANSP:OPAQUE
DTEND:20161224T052000Z
URL:http://jmshockey.com/games/9483
LOCATION:Doug Woog Arena (Wakota)
SUMMARY:Intermediate Game at Doug Woog Arena (Wakota)
CLASS:PUBLIC
DTSTAMP:20260421T134343Z
END:VEVENT
END:VCALENDAR