BEGIN:VCALENDAR
VERSION:2.0
PRODID:JMS Hockey
X-PUBLISHED-TTL:P1W
BEGIN:VEVENT
UID:69e7732de00d5
DTSTART:20161203T034000Z
SEQUENCE:0
TRANSP:OPAQUE
DTEND:20161203T051000Z
URL:http://jmshockey.com/games/9474
LOCATION:Doug Woog Arena (Wakota)
SUMMARY:Intermediate Game at Doug Woog Arena (Wakota)
CLASS:PUBLIC
DTSTAMP:20260421T075301Z
END:VEVENT
END:VCALENDAR