BEGIN:VCALENDAR
VERSION:2.0
PRODID:JMS Hockey
X-PUBLISHED-TTL:P1W
BEGIN:VEVENT
UID:69e795d7b66b4
DTSTART:20161112T033000Z
SEQUENCE:0
TRANSP:OPAQUE
DTEND:20161112T050000Z
URL:http://jmshockey.com/games/9473
LOCATION:Doug Woog Arena (Wakota)
SUMMARY:Intermediate Game at Doug Woog Arena (Wakota)
CLASS:PUBLIC
DTSTAMP:20260421T102055Z
END:VEVENT
END:VCALENDAR