BEGIN:VCALENDAR
VERSION:2.0
PRODID:JMS Hockey
X-PUBLISHED-TTL:P1W
BEGIN:VEVENT
UID:69e7ada195cc8
DTSTART:20161110T033000Z
SEQUENCE:0
TRANSP:OPAQUE
DTEND:20161110T050000Z
URL:http://jmshockey.com/games/9468
LOCATION:Doug Woog Arena (Wakota)
SUMMARY:Level 3 Game at Doug Woog Arena (Wakota)
CLASS:PUBLIC
DTSTAMP:20260421T120225Z
END:VEVENT
END:VCALENDAR