BEGIN:VCALENDAR
VERSION:2.0
PRODID:JMS Hockey
X-PUBLISHED-TTL:P1W
BEGIN:VEVENT
UID:69e7c3643de16
DTSTART:20161208T023000Z
SEQUENCE:0
TRANSP:OPAQUE
DTEND:20161208T040000Z
URL:http://jmshockey.com/games/9462
LOCATION:Polar Arena
SUMMARY:Lower Level Game at Polar Arena
CLASS:PUBLIC
DTSTAMP:20260421T133516Z
END:VEVENT
END:VCALENDAR