BEGIN:VCALENDAR
VERSION:2.0
PRODID:JMS Hockey
X-PUBLISHED-TTL:P1W
BEGIN:VEVENT
UID:69e7d4bc08053
DTSTART:20161110T023000Z
SEQUENCE:0
TRANSP:OPAQUE
DTEND:20161110T040000Z
URL:http://jmshockey.com/games/9458
LOCATION:Polar Arena
SUMMARY:Lower Level Game at Polar Arena
CLASS:PUBLIC
DTSTAMP:20260421T144916Z
END:VEVENT
END:VCALENDAR