BEGIN:VCALENDAR
VERSION:2.0
PRODID:JMS Hockey
X-PUBLISHED-TTL:P1W
BEGIN:VEVENT
UID:69e7ce8f4624f
DTSTART:20161103T013000Z
SEQUENCE:0
TRANSP:OPAQUE
DTEND:20161103T030000Z
URL:http://jmshockey.com/games/9457
LOCATION:Polar Arena
SUMMARY:Lower Level Game at Polar Arena
CLASS:PUBLIC
DTSTAMP:20260421T142255Z
END:VEVENT
END:VCALENDAR